BEGIN:VCALENDAR
VERSION:2.0
PRODID:-//Visit Winchester MA - ECPv6.15.20//NONSGML v1.0//EN
CALSCALE:GREGORIAN
METHOD:PUBLISH
X-WR-CALNAME:Visit Winchester MA
X-ORIGINAL-URL:https://visitwinchesterma.com
X-WR-CALDESC:Events for Visit Winchester MA
REFRESH-INTERVAL;VALUE=DURATION:PT1H
X-Robots-Tag:noindex
X-PUBLISHED-TTL:PT1H
BEGIN:VTIMEZONE
TZID:America/New_York
BEGIN:DAYLIGHT
TZOFFSETFROM:-0500
TZOFFSETTO:-0400
TZNAME:EDT
DTSTART:20210314T070000
END:DAYLIGHT
BEGIN:STANDARD
TZOFFSETFROM:-0400
TZOFFSETTO:-0500
TZNAME:EST
DTSTART:20211107T060000
END:STANDARD
BEGIN:DAYLIGHT
TZOFFSETFROM:-0500
TZOFFSETTO:-0400
TZNAME:EDT
DTSTART:20220313T070000
END:DAYLIGHT
BEGIN:STANDARD
TZOFFSETFROM:-0400
TZOFFSETTO:-0500
TZNAME:EST
DTSTART:20221106T060000
END:STANDARD
BEGIN:DAYLIGHT
TZOFFSETFROM:-0500
TZOFFSETTO:-0400
TZNAME:EDT
DTSTART:20230312T070000
END:DAYLIGHT
BEGIN:STANDARD
TZOFFSETFROM:-0400
TZOFFSETTO:-0500
TZNAME:EST
DTSTART:20231105T060000
END:STANDARD
END:VTIMEZONE
BEGIN:VEVENT
DTSTART;VALUE=DATE:20220604
DTEND;VALUE=DATE:20220605
DTSTAMP:20260419T170437
CREATED:20220408T170658Z
LAST-MODIFIED:20220419T172302Z
UID:334-1654300800-1654387199@visitwinchesterma.com
SUMMARY:Winchester Town Day
DESCRIPTION:Town Day normally takes place on the first Saturday in June. Please browse the links below to find out more about our annual community celebration and the ways you can participate. \nVIDEO: History of Winchester Town Day \nAny time is the perfect time to sign up to volunteer with us!\nVisit our volunteer page\, send an email to townday@townday.org or call us at 781-526-6721. We hope to hear from you! \nStart your day with the WFEE Town Day Road Race and Walk! See details. \nBoys and girls of Winchester …\nEnter a drawing to start the fireworks! Registration form \n2021 Exhibitors and Events\nCheck back here after 9:00 AM on Town Day for additional information …\n• Link to booth map\n• In exhibitor list: streets and booth numbers \nVisit Website
URL:https://visitwinchesterma.com/event/winchester-town-day/
CATEGORIES:Annual Events
ATTACH;FMTTYPE=image/jpeg:https://visitwinchesterma.com/wp-content/uploads/2022/04/winchester-town-day-1.jpg
END:VEVENT
END:VCALENDAR