BEGIN:VCALENDAR
VERSION:2.0
PRODID:-//Visit Winchester MA - ECPv6.15.20//NONSGML v1.0//EN
CALSCALE:GREGORIAN
METHOD:PUBLISH
X-WR-CALNAME:Visit Winchester MA
X-ORIGINAL-URL:https://visitwinchesterma.com
X-WR-CALDESC:Events for Visit Winchester MA
REFRESH-INTERVAL;VALUE=DURATION:PT1H
X-Robots-Tag:noindex
X-PUBLISHED-TTL:PT1H
BEGIN:VTIMEZONE
TZID:America/New_York
BEGIN:DAYLIGHT
TZOFFSETFROM:-0500
TZOFFSETTO:-0400
TZNAME:EDT
DTSTART:20230312T070000
END:DAYLIGHT
BEGIN:STANDARD
TZOFFSETFROM:-0400
TZOFFSETTO:-0500
TZNAME:EST
DTSTART:20231105T060000
END:STANDARD
BEGIN:DAYLIGHT
TZOFFSETFROM:-0500
TZOFFSETTO:-0400
TZNAME:EDT
DTSTART:20240310T070000
END:DAYLIGHT
BEGIN:STANDARD
TZOFFSETFROM:-0400
TZOFFSETTO:-0500
TZNAME:EST
DTSTART:20241103T060000
END:STANDARD
BEGIN:DAYLIGHT
TZOFFSETFROM:-0500
TZOFFSETTO:-0400
TZNAME:EDT
DTSTART:20250309T070000
END:DAYLIGHT
BEGIN:STANDARD
TZOFFSETFROM:-0400
TZOFFSETTO:-0500
TZNAME:EST
DTSTART:20251102T060000
END:STANDARD
END:VTIMEZONE
BEGIN:VEVENT
DTSTART;TZID=America/New_York:20241215T120000
DTEND;TZID=America/New_York:20241215T160000
DTSTAMP:20260419T143304
CREATED:20241113T195125Z
LAST-MODIFIED:20241113T195257Z
UID:1947-1734264000-1734278400@visitwinchesterma.com
SUMMARY:The Chamber's Annual Holiday House Tour
DESCRIPTION:Each year the Chamber of Commerce coordinates the Annual Holiday House Tour with beautiful homes that showcase the artistry and creativity of Winchester’s talented residents and get everyone in the mood and inspired for the upcoming Holidays! \nAll proceeds from the event go toward the Town Beautification Fund which supports such projects as the hanging baskets\, the holiday lights and and the wreaths adorned on the Winchester Center’s historic lamp posts every Holiday season. The Annual Holiday House Tour is a great opportunity to make a tangible difference to the beauty and vitality of Winchester!  \nBuy Your Ticket Today! \nThank you to Bespoke of Winchester for sponsoring this beloved event! \nBespoke Design Showroom\n27 Church Street\nWinchester\, MA 01890 \nMonday – Friday 10am – 4pm\nSaturdays by appointment \nCONNECT \ninfo@bespokeofwinchester.com\n781.570.2210
URL:https://visitwinchesterma.com/event/the-chambers-annual-holiday-house-tour/
LOCATION:Winchester\, MA
CATEGORIES:Annual Events,Stroll 2024,Town Event
ATTACH;FMTTYPE=image/jpeg:https://visitwinchesterma.com/wp-content/uploads/House-Tour.jpg
END:VEVENT
END:VCALENDAR