BEGIN:VCALENDAR
VERSION:2.0
PRODID:-//Visit Winchester MA - ECPv6.15.20//NONSGML v1.0//EN
CALSCALE:GREGORIAN
METHOD:PUBLISH
X-WR-CALNAME:Visit Winchester MA
X-ORIGINAL-URL:https://visitwinchesterma.com
X-WR-CALDESC:Events for Visit Winchester MA
REFRESH-INTERVAL;VALUE=DURATION:PT1H
X-Robots-Tag:noindex
X-PUBLISHED-TTL:PT1H
BEGIN:VTIMEZONE
TZID:America/New_York
BEGIN:DAYLIGHT
TZOFFSETFROM:-0500
TZOFFSETTO:-0400
TZNAME:EDT
DTSTART:20210314T070000
END:DAYLIGHT
BEGIN:STANDARD
TZOFFSETFROM:-0400
TZOFFSETTO:-0500
TZNAME:EST
DTSTART:20211107T060000
END:STANDARD
BEGIN:DAYLIGHT
TZOFFSETFROM:-0500
TZOFFSETTO:-0400
TZNAME:EDT
DTSTART:20220313T070000
END:DAYLIGHT
BEGIN:STANDARD
TZOFFSETFROM:-0400
TZOFFSETTO:-0500
TZNAME:EST
DTSTART:20221106T060000
END:STANDARD
BEGIN:DAYLIGHT
TZOFFSETFROM:-0500
TZOFFSETTO:-0400
TZNAME:EDT
DTSTART:20230312T070000
END:DAYLIGHT
BEGIN:STANDARD
TZOFFSETFROM:-0400
TZOFFSETTO:-0500
TZNAME:EST
DTSTART:20231105T060000
END:STANDARD
END:VTIMEZONE
BEGIN:VEVENT
DTSTART;VALUE=DATE:20220621
DTEND;VALUE=DATE:20220906
DTSTAMP:20260419T170104
CREATED:20220621T173147Z
LAST-MODIFIED:20220621T173147Z
UID:1231-1655769600-1662422399@visitwinchesterma.com
SUMMARY:Photoville Fence display
DESCRIPTION:The 10th edition of the Photoville Fence display that is in downtown Winchester June until September 5th
URL:https://visitwinchesterma.com/event/photoville-fence-display/
CATEGORIES:Annual Events
ATTACH;FMTTYPE=image/jpeg:https://visitwinchesterma.com/wp-content/uploads/Birnbaum-Meg_Iaritza-and-the-porcelain-berries_03.jpg
END:VEVENT
END:VCALENDAR